BEGIN:VCALENDAR
VERSION:2.0
PRODID:-//eventon.com NONSGML v1.0//EN
CALSCALE:GREGORIAN
METHOD:PUBLISH
BEGIN:VEVENT
UID:69e6279b53ee9
DTSTAMP:20260420T131819Z
DTSTART:20260426T080000Z
DTEND:20260426T091500Z
LOCATION:Kerkgebouw de Schutse Schutstraat 147\,  7907 CD Hoogeveen
SUMMARY:Dienst - bevestigingsdienst
DESCRIPTION:Dienst o.l.v. ds. Erik van Duyl. In deze dienst worden de nieuw
 e raadsleden bevestigd.\nhttps://deschutse.net/evenementen/dienst-26-april/
URL:https://deschutse.net/evenementen/dienst-26-april/
END:VEVENT
END:VCALENDAR